BEGIN:VCALENDAR
VERSION:2.0
PRODID:spatie/icalendar-generator
DESCRIPTION:Évènements de Dispensaire De Soins Naturels
X-WR-CALDESC:Évènements de Dispensaire De Soins Naturels
REFRESH-INTERVAL;VALUE=DURATION:PT1440M
X-PUBLISHED-TTL:PT1440M
BEGIN:VTIMEZONE
TZID:Etc/GMT-2
BEGIN:STANDARD
DTSTART:20250508T140000Z
TZOFFSETFROM:+0200
TZOFFSETTO:+0200
END:STANDARD
END:VTIMEZONE
BEGIN:VTIMEZONE
TZID:UTC
BEGIN:STANDARD
DTSTART:20250727T104213Z
TZOFFSETFROM:+0000
TZOFFSETTO:+0000
END:STANDARD
END:VTIMEZONE
BEGIN:VEVENT
UID:698-673
DTSTAMP:20260423T104213Z
SUMMARY:Ecoute psychologique sur RDV
LOCATION:
ORGANIZER;CN=dispensairedesoinsnaturels:MAILTO:le-dispensaire-de-soins-natu
 rels@orange.fr
DTSTART;TZID=Etc/GMT-2:20260202T140000
DTEND;TZID=Etc/GMT-2:20260202T170000
X-ALT-DESC;FMTTYPE=TEXT/HTML:
CATEGORIES:Séances
URL;VALUE=URI:https://dispensairedesoinsnaturels.org/mc-events/ecoute-psych
 ologique-sur-rdv-170?mc_id=698
END:VEVENT
END:VCALENDAR