BEGIN:VCALENDAR
VERSION:2.0
PRODID:spatie/icalendar-generator
DESCRIPTION:Évènements de Dispensaire De Soins Naturels
X-WR-CALDESC:Évènements de Dispensaire De Soins Naturels
REFRESH-INTERVAL;VALUE=DURATION:PT1440M
X-PUBLISHED-TTL:PT1440M
BEGIN:VTIMEZONE
TZID:Etc/GMT-2
BEGIN:STANDARD
DTSTART:20250710T090000Z
TZOFFSETFROM:+0200
TZOFFSETTO:+0200
END:STANDARD
END:VTIMEZONE
BEGIN:VTIMEZONE
TZID:UTC
BEGIN:STANDARD
DTSTART:20250725T101820Z
TZOFFSETFROM:+0000
TZOFFSETTO:+0000
END:STANDARD
END:VTIMEZONE
BEGIN:VEVENT
UID:803-766
DTSTAMP:20260421T101820Z
SUMMARY:Fermeture Dispensaire Lundi de Paques
LOCATION:
ORGANIZER;CN=dispensairedesoinsnaturels:MAILTO:le-dispensaire-de-soins-natu
 rels@orange.fr
DTSTART;TZID=Etc/GMT-2:20260406T090000
DTEND;TZID=Etc/GMT-2:20260406T170000
X-ALT-DESC;FMTTYPE=TEXT/HTML:
CATEGORIES:Séances
URL;VALUE=URI:https://dispensairedesoinsnaturels.org/mc-events/fermeture-di
 spensaire-lundi-de-paques-2?mc_id=803
END:VEVENT
END:VCALENDAR