BEGIN:VCALENDAR
VERSION:2.0
PRODID:spatie/icalendar-generator
DESCRIPTION:Évènements de Dispensaire De Soins Naturels
X-WR-CALDESC:Évènements de Dispensaire De Soins Naturels
REFRESH-INTERVAL;VALUE=DURATION:PT1440M
X-PUBLISHED-TTL:PT1440M
BEGIN:VTIMEZONE
TZID:Etc/GMT-2
BEGIN:STANDARD
DTSTART:20240201T140000Z
TZOFFSETFROM:+0200
TZOFFSETTO:+0200
END:STANDARD
END:VTIMEZONE
BEGIN:VTIMEZONE
TZID:UTC
BEGIN:STANDARD
DTSTART:20250725T210426Z
TZOFFSETFROM:+0000
TZOFFSETTO:+0000
END:STANDARD
END:VTIMEZONE
BEGIN:VEVENT
UID:39-39
DTSTAMP:20260421T210426Z
SUMMARY:Ecoute Psychologique sur RDV
LOCATION:
ORGANIZER;CN=Dispensaire_Admin:MAILTO:felix.maudru@gmail.com
DTSTART;TZID=Etc/GMT-2:20241028T140000
DTEND;TZID=Etc/GMT-2:20241028T170000
X-ALT-DESC;FMTTYPE=TEXT/HTML:
CATEGORIES:Séances
URL;VALUE=URI:https://dispensairedesoinsnaturels.org/mc-events/ecoute-psych
 ologique-sur-rdv-12?mc_id=39
END:VEVENT
END:VCALENDAR