BEGIN:VCALENDAR
VERSION:2.0
PRODID:spatie/icalendar-generator
DESCRIPTION:Évènements de Dispensaire De Soins Naturels
X-WR-CALDESC:Évènements de Dispensaire De Soins Naturels
REFRESH-INTERVAL;VALUE=DURATION:PT1440M
X-PUBLISHED-TTL:PT1440M
BEGIN:VTIMEZONE
TZID:Etc/GMT-2
BEGIN:STANDARD
DTSTART:20240202T160000Z
TZOFFSETFROM:+0200
TZOFFSETTO:+0200
END:STANDARD
END:VTIMEZONE
BEGIN:VTIMEZONE
TZID:UTC
BEGIN:STANDARD
DTSTART:20250725T212409Z
TZOFFSETFROM:+0000
TZOFFSETTO:+0000
END:STANDARD
END:VTIMEZONE
BEGIN:VEVENT
UID:44-44
DTSTAMP:20260421T212409Z
SUMMARY:Fermeture Dispensaire Après-midi
LOCATION:
ORGANIZER;CN=Dispensaire_Admin:MAILTO:felix.maudru@gmail.com
DTSTART;TZID=Etc/GMT-2:20241029T160000
DTEND;TZID=Etc/GMT-2:20241029T190000
X-ALT-DESC;FMTTYPE=TEXT/HTML:
CATEGORIES:Séances
URL;VALUE=URI:https://dispensairedesoinsnaturels.org/mc-events/fermeture-di
 spensaire-apres-midi?mc_id=44
END:VEVENT
END:VCALENDAR