BEGIN:VCALENDAR
VERSION:2.0
PRODID:spatie/icalendar-generator
DESCRIPTION:Évènements de Dispensaire De Soins Naturels
X-WR-CALDESC:Évènements de Dispensaire De Soins Naturels
REFRESH-INTERVAL;VALUE=DURATION:PT1440M
X-PUBLISHED-TTL:PT1440M
BEGIN:VTIMEZONE
TZID:Etc/GMT-2
BEGIN:STANDARD
DTSTART:20250404T090000Z
TZOFFSETFROM:+0200
TZOFFSETTO:+0200
END:STANDARD
END:VTIMEZONE
BEGIN:VTIMEZONE
TZID:UTC
BEGIN:STANDARD
DTSTART:20250725T220043Z
TZOFFSETFROM:+0000
TZOFFSETTO:+0000
END:STANDARD
END:VTIMEZONE
BEGIN:VEVENT
UID:643-618
DTSTAMP:20260421T220043Z
SUMMARY:Fermeture Dispensaire
LOCATION:
ORGANIZER;CN=dispensairedesoinsnaturels:MAILTO:le-dispensaire-de-soins-natu
 rels@orange.fr
DTSTART;TZID=Etc/GMT-2:20251230T090000
DTEND;TZID=Etc/GMT-2:20251230T190000
X-ALT-DESC;FMTTYPE=TEXT/HTML:
CATEGORIES:Séances
URL;VALUE=URI:https://dispensairedesoinsnaturels.org/mc-events/fermeture-di
 spensaire-6?mc_id=643
END:VEVENT
END:VCALENDAR