BEGIN:VCALENDAR
VERSION:2.0
PRODID:spatie/icalendar-generator
DESCRIPTION:Évènements de Dispensaire De Soins Naturels
X-WR-CALDESC:Évènements de Dispensaire De Soins Naturels
REFRESH-INTERVAL;VALUE=DURATION:PT1440M
X-PUBLISHED-TTL:PT1440M
BEGIN:VTIMEZONE
TZID:Etc/GMT-2
BEGIN:STANDARD
DTSTART:20250515T140000Z
TZOFFSETFROM:+0200
TZOFFSETTO:+0200
END:STANDARD
END:VTIMEZONE
BEGIN:VTIMEZONE
TZID:UTC
BEGIN:STANDARD
DTSTART:20250725T173424Z
TZOFFSETFROM:+0000
TZOFFSETTO:+0000
END:STANDARD
END:VTIMEZONE
BEGIN:VEVENT
UID:708-683
DTSTAMP:20260421T173424Z
SUMMARY:Médecine traditionnelle chinoise (sans aiguille)
LOCATION:
ORGANIZER;CN=dispensairedesoinsnaturels:MAILTO:le-dispensaire-de-soins-natu
 rels@orange.fr
DTSTART;TZID=Etc/GMT-2:20260209T140000
DTEND;TZID=Etc/GMT-2:20260209T170000
X-ALT-DESC;FMTTYPE=TEXT/HTML:
CATEGORIES:Séances
URL;VALUE=URI:https://dispensairedesoinsnaturels.org/mc-events/medecine-tra
 ditionnelle-chinoise-sans-aiguille-7?mc_id=708
END:VEVENT
END:VCALENDAR